BEGIN:VCALENDAR
VERSION:2.0
PRODID:-//En Bruto - ECPv6.15.20//NONSGML v1.0//EN
CALSCALE:GREGORIAN
METHOD:PUBLISH
X-ORIGINAL-URL:https://enbruto.com
X-WR-CALDESC:Eventos para En Bruto
REFRESH-INTERVAL;VALUE=DURATION:PT1H
X-Robots-Tag:noindex
X-PUBLISHED-TTL:PT1H
BEGIN:VTIMEZONE
TZID:Europe/Madrid
BEGIN:DAYLIGHT
TZOFFSETFROM:+0100
TZOFFSETTO:+0200
TZNAME:CEST
DTSTART:20250330T010000
END:DAYLIGHT
BEGIN:STANDARD
TZOFFSETFROM:+0200
TZOFFSETTO:+0100
TZNAME:CET
DTSTART:20251026T010000
END:STANDARD
BEGIN:DAYLIGHT
TZOFFSETFROM:+0100
TZOFFSETTO:+0200
TZNAME:CEST
DTSTART:20260329T010000
END:DAYLIGHT
BEGIN:STANDARD
TZOFFSETFROM:+0200
TZOFFSETTO:+0100
TZNAME:CET
DTSTART:20261025T010000
END:STANDARD
BEGIN:DAYLIGHT
TZOFFSETFROM:+0100
TZOFFSETTO:+0200
TZNAME:CEST
DTSTART:20270328T010000
END:DAYLIGHT
BEGIN:STANDARD
TZOFFSETFROM:+0200
TZOFFSETTO:+0100
TZNAME:CET
DTSTART:20271031T010000
END:STANDARD
END:VTIMEZONE
BEGIN:VEVENT
DTSTART;TZID=Europe/Madrid:20260508T193000
DTEND;TZID=Europe/Madrid:20260508T230000
DTSTAMP:20260419T190418
CREATED:20260215T093850Z
LAST-MODIFIED:20260215T093850Z
UID:23276-1778268600-1778281200@enbruto.com
SUMMARY:Curso de cocina japonesa
DESCRIPTION:PLATOS: \n\nGyozas (de verdura con carne con salsa de soja\, miel y aceite de sésamo)\nSushi (Nigiris de pez mantequilla y salsa ponzu y de salmón marinado en teriyaki con tobiko)\, Uramaki (vegetal de aguacate\, queso crema y mango) y Osomaki de atún)\nKaraage de pollo frito\, mayonesa de kimchee y col salteada (o pak choi salteado\, según disponibilidad de mercado)\n\nTodo acompañado de un Caipisake\, el híbrido japones brasileño. \nCOMPRAR CURSO
URL:https://enbruto.com/curso/curso-de-cocina-japonesa-08-05-2026/
END:VEVENT
BEGIN:VEVENT
DTSTART;TZID=Europe/Madrid:20260509T193000
DTEND;TZID=Europe/Madrid:20260509T230000
DTSTAMP:20260419T190418
CREATED:20260215T094047Z
LAST-MODIFIED:20260215T094047Z
UID:23279-1778355000-1778367600@enbruto.com
SUMMARY:Curso de cocina peruana
DESCRIPTION:PLATOS: \n\nCausa limeña (con carpaccio de langostino marinado y mayonesa de aceituna negra)\nCeviche de corvina\, boniato asado y yuca frita\nAjí de gallina con arroz chaufa\nPionono\n\nTodo acompañado de un Pisco Sour de naranja sanguina. \nCOMPRAR CURSO
URL:https://enbruto.com/curso/curso-de-cocina-peruana-09-05-2026/
END:VEVENT
BEGIN:VEVENT
DTSTART;TZID=Europe/Madrid:20260515T193000
DTEND;TZID=Europe/Madrid:20260515T230000
DTSTAMP:20260419T190418
CREATED:20260215T094940Z
LAST-MODIFIED:20260215T094940Z
UID:23291-1778873400-1778886000@enbruto.com
SUMMARY:Curso de cocina peruana nikkei
DESCRIPTION:PLATOS: \n\nCausa limeña (con carpaccio de langostino marinado y mayonesa de aceituna negra)\nCeviche de corvina\, boniato asado y yuca frita\nAjí de gallina con arroz chaufa\nPionono\n\nTodo acompañado de un Pisco Sour de naranja sanguina. \nCOMPRAR CURSO
URL:https://enbruto.com/curso/curso-de-cocina-peruana-nikkei-15-05-2026/
END:VEVENT
BEGIN:VEVENT
DTSTART;TZID=Europe/Madrid:20260516T193000
DTEND;TZID=Europe/Madrid:20260516T230000
DTSTAMP:20260419T190418
CREATED:20260215T094304Z
LAST-MODIFIED:20260215T094304Z
UID:23285-1778959800-1778972400@enbruto.com
SUMMARY:Curso de cocina italiana
DESCRIPTION:PLATOS: \n\n“Pasta alla carbonara e ai frutti di mare” o Pasta fresca con dos salsas (Carbonara y de Marisco)\n“Gnocchi al pesto genovese” o Gnocchis al pesto génoves\n“Il nosso Tiramisú” o Tiramisú clásico con toque de En Bruto\n\nTodo acompañado de un Aperol spritz \nCOMPRAR CURSO
URL:https://enbruto.com/curso/curso-de-cocina-italiana-16-05-2026/
END:VEVENT
BEGIN:VEVENT
DTSTART;TZID=Europe/Madrid:20260522T193000
DTEND;TZID=Europe/Madrid:20260522T233000
DTSTAMP:20260419T190418
CREATED:20260215T094410Z
LAST-MODIFIED:20260215T094410Z
UID:23289-1779478200-1779492600@enbruto.com
SUMMARY:Curso de cocina tailandesa
DESCRIPTION:PLATOS: \n\nSopa Tom Yam\nPad Thai\nCurry rojo de carne con arroz frito tailandés\nSticky mango rice\n\nTodo acompañado de un Mai Thai. \nCOMPRAR CURSO
URL:https://enbruto.com/curso/curso-de-cocina-tailandesa-22-05-2026/
END:VEVENT
BEGIN:VEVENT
DTSTART;TZID=Europe/Madrid:20260523T193000
DTEND;TZID=Europe/Madrid:20260523T230000
DTSTAMP:20260419T190418
CREATED:20260215T094329Z
LAST-MODIFIED:20260215T094329Z
UID:23286-1779564600-1779577200@enbruto.com
SUMMARY:Curso de cocina italiana II
DESCRIPTION:PLATOS: \n\n\nPARMIGGIANA DE BERENJENA\n\n\nPasta alla carbonara –  Pasta fresca con dos salsas y en dos formas (Tagliatelle alla Carbonara)\n\n\n“Gnocchi al pesto genovese” o Gnocchis al pesto génoves\n\n\n“Il nosso Tiramisú” o Tiramisú clásico con toque de En Bruto\n\n\nTodo acompañado de un Aperol spritz \nCOMPRAR CURSO
URL:https://enbruto.com/curso/curso-de-cocina-italiana-ii-23-05-2026/
END:VEVENT
BEGIN:VEVENT
DTSTART;TZID=Europe/Madrid:20260529T193000
DTEND;TZID=Europe/Madrid:20260529T230000
DTSTAMP:20260419T190418
CREATED:20260215T093908Z
LAST-MODIFIED:20260215T093908Z
UID:23275-1780083000-1780095600@enbruto.com
SUMMARY:Curso de cocina japonesa
DESCRIPTION:PLATOS: \n\nGyozas (de verdura con carne con salsa de soja\, miel y aceite de sésamo)\nSushi (Nigiris de pez mantequilla y salsa ponzu y de salmón marinado en teriyaki con tobiko)\, Uramaki (vegetal de aguacate\, queso crema y mango) y Osomaki de atún)\nKaraage de pollo frito\, mayonesa de kimchee y col salteada (o pak choi salteado\, según disponibilidad de mercado)\n\nTodo acompañado de un Caipisake\, el híbrido japones brasileño. \nCOMPRAR CURSO
URL:https://enbruto.com/curso/curso-de-cocina-japonesa-29-05-2026/
END:VEVENT
BEGIN:VEVENT
DTSTART;TZID=Europe/Madrid:20260530T193000
DTEND;TZID=Europe/Madrid:20260530T230000
DTSTAMP:20260419T190418
CREATED:20260215T094113Z
LAST-MODIFIED:20260215T094133Z
UID:23280-1780169400-1780182000@enbruto.com
SUMMARY:Curso de cocina peruana nikkei
DESCRIPTION:PLATOS: \n\nCausa limeña (con carpaccio de langostino marinado y mayonesa de aceituna negra)\nCeviche de corvina\, boniato asado y yuca frita\nAjí de gallina con arroz chaufa\nPionono\n\nTodo acompañado de un Pisco Sour de naranja sanguina. \nCOMPRAR CURSO
URL:https://enbruto.com/curso/curso-de-cocina-peruana-nikkei-30-05-2026/
END:VEVENT
END:VCALENDAR