BEGIN:VCALENDAR
VERSION:2.0
PRODID:-//En Bruto - ECPv6.15.20//NONSGML v1.0//EN
CALSCALE:GREGORIAN
METHOD:PUBLISH
X-WR-CALNAME:En Bruto
X-ORIGINAL-URL:https://enbruto.com
X-WR-CALDESC:Eventos para En Bruto
REFRESH-INTERVAL;VALUE=DURATION:PT1H
X-Robots-Tag:noindex
X-PUBLISHED-TTL:PT1H
BEGIN:VTIMEZONE
TZID:Europe/Madrid
BEGIN:DAYLIGHT
TZOFFSETFROM:+0100
TZOFFSETTO:+0200
TZNAME:CEST
DTSTART:20240331T010000
END:DAYLIGHT
BEGIN:STANDARD
TZOFFSETFROM:+0200
TZOFFSETTO:+0100
TZNAME:CET
DTSTART:20241027T010000
END:STANDARD
BEGIN:DAYLIGHT
TZOFFSETFROM:+0100
TZOFFSETTO:+0200
TZNAME:CEST
DTSTART:20250330T010000
END:DAYLIGHT
BEGIN:STANDARD
TZOFFSETFROM:+0200
TZOFFSETTO:+0100
TZNAME:CET
DTSTART:20251026T010000
END:STANDARD
BEGIN:DAYLIGHT
TZOFFSETFROM:+0100
TZOFFSETTO:+0200
TZNAME:CEST
DTSTART:20260329T010000
END:DAYLIGHT
BEGIN:STANDARD
TZOFFSETFROM:+0200
TZOFFSETTO:+0100
TZNAME:CET
DTSTART:20261025T010000
END:STANDARD
END:VTIMEZONE
BEGIN:VEVENT
DTSTART;TZID=Europe/Madrid:20250905T193000
DTEND;TZID=Europe/Madrid:20250905T233000
DTSTAMP:20260420T035527
CREATED:20250630T195422Z
LAST-MODIFIED:20250630T195422Z
UID:22528-1757100600-1757115000@enbruto.com
SUMMARY:Curso de cocina tailandesa
DESCRIPTION:PLATOS: \n\nSopa Tom Yam\nPad Thai\nCurry rojo de carne con arroz frito tailandés\nSticky mango rice\n\nTodo acompañado de un Mai Thai. \nCOMPRAR CURSO
URL:https://enbruto.com/curso/curso-de-cocina-tailandesa-05-09-2025/
END:VEVENT
BEGIN:VEVENT
DTSTART;TZID=Europe/Madrid:20250906T193000
DTEND;TZID=Europe/Madrid:20250906T230000
DTSTAMP:20260420T035527
CREATED:20250630T195529Z
LAST-MODIFIED:20250630T195529Z
UID:22530-1757187000-1757199600@enbruto.com
SUMMARY:Curso de cocina italiana II
DESCRIPTION:PLATOS: \n\n\nPARMIGGIANA DE BERENJENA\n\n\nPasta alla carbonara –  Pasta fresca con dos salsas y en dos formas (Tagliatelle alla Carbonara)\n\n\n“Gnocchi al pesto genovese” o Gnocchis al pesto génoves\n\n\n“Il nosso Tiramisú” o Tiramisú clásico con toque de En Bruto\n\n\nTodo acompañado de un Aperol spritz \nCOMPRAR CURSO
URL:https://enbruto.com/curso/curso-de-cocina-italiana-ii-06-09-2025/
END:VEVENT
BEGIN:VEVENT
DTSTART;TZID=Europe/Madrid:20250912T193000
DTEND;TZID=Europe/Madrid:20250912T230000
DTSTAMP:20260420T035527
CREATED:20250630T195639Z
LAST-MODIFIED:20250630T195646Z
UID:22532-1757705400-1757718000@enbruto.com
SUMMARY:Curso de cocina japonesa
DESCRIPTION:PLATOS: \n\nGyozas (de verdura con carne con salsa de soja\, miel y aceite de sésamo)\nSushi (Nigiris de pez mantequilla y salsa ponzu y de salmón marinado en teriyaki con tobiko)\, Uramaki (vegetal de aguacate\, queso crema y mango) y Osomaki de atún)\nKaraage de pollo frito\, mayonesa de kimchee y col salteada (o pak choi salteado\, según disponibilidad de mercado)\n\nTodo acompañado de un Caipisake\, el híbrido japones brasileño. \nCOMPRAR CURSO
URL:https://enbruto.com/curso/curso-de-cocina-japonesa-12-09-2025/
END:VEVENT
BEGIN:VEVENT
DTSTART;TZID=Europe/Madrid:20250920T193000
DTEND;TZID=Europe/Madrid:20250920T230000
DTSTAMP:20260420T035527
CREATED:20250630T195743Z
LAST-MODIFIED:20250630T195743Z
UID:22534-1758396600-1758409200@enbruto.com
SUMMARY:Curso de cocina peruana
DESCRIPTION:PLATOS: \n\nCausa limeña (con carpaccio de langostino marinado y mayonesa de aceituna negra)\nCeviche de corvina\, boniato asado y yuca frita\nAjí de gallina con arroz chaufa\nPionono\n\nTodo acompañado de un Pisco Sour de naranja sanguina. \nCOMPRAR CURSO
URL:https://enbruto.com/curso/curso-de-cocina-peruana-20-09-2025/
END:VEVENT
BEGIN:VEVENT
DTSTART;TZID=Europe/Madrid:20250926T193000
DTEND;TZID=Europe/Madrid:20250926T230000
DTSTAMP:20260420T035527
CREATED:20250630T195910Z
LAST-MODIFIED:20250630T195910Z
UID:22536-1758915000-1758927600@enbruto.com
SUMMARY:Curso de cocina italiana
DESCRIPTION:PLATOS: \n\n“Pasta alla carbonara e ai frutti di mare” o Pasta fresca con dos salsas (Carbonara y de Marisco)\n“Gnocchi al pesto genovese” o Gnocchis al pesto génoves\n“Il nosso Tiramisú” o Tiramisú clásico con toque de En Bruto\n\nTodo acompañado de un Aperol spritz \nCOMPRAR CURSO
URL:https://enbruto.com/curso/curso-de-cocina-italiana-26-09-2025/
END:VEVENT
BEGIN:VEVENT
DTSTART;TZID=Europe/Madrid:20250927T193000
DTEND;TZID=Europe/Madrid:20250927T230000
DTSTAMP:20260420T035527
CREATED:20250630T200011Z
LAST-MODIFIED:20250630T200011Z
UID:22542-1759001400-1759014000@enbruto.com
SUMMARY:Curso de arroces y paella
DESCRIPTION:PLATOS: \n\nArroz seco de setas y mayonesa de comino\nArroz negro con ali oli de ajos asados\nPaella Valenciana\nArroz meloso de Txuleta y Pimientos del Piquillo\n\nTodo acompañado\, como no podía ser de otra manera\, de un agua de valencia. \nCOMPRAR CURSO
URL:https://enbruto.com/curso/curso-de-arroces-y-paella-27-09-2025/
END:VEVENT
END:VCALENDAR