BEGIN:VCALENDAR
VERSION:2.0
PRODID:-//En Bruto - ECPv6.15.20//NONSGML v1.0//EN
CALSCALE:GREGORIAN
METHOD:PUBLISH
X-ORIGINAL-URL:https://enbruto.com
X-WR-CALDESC:Eventos para En Bruto
REFRESH-INTERVAL;VALUE=DURATION:PT1H
X-Robots-Tag:noindex
X-PUBLISHED-TTL:PT1H
BEGIN:VTIMEZONE
TZID:Europe/Madrid
BEGIN:DAYLIGHT
TZOFFSETFROM:+0100
TZOFFSETTO:+0200
TZNAME:CEST
DTSTART:20230326T010000
END:DAYLIGHT
BEGIN:STANDARD
TZOFFSETFROM:+0200
TZOFFSETTO:+0100
TZNAME:CET
DTSTART:20231029T010000
END:STANDARD
BEGIN:DAYLIGHT
TZOFFSETFROM:+0100
TZOFFSETTO:+0200
TZNAME:CEST
DTSTART:20240331T010000
END:DAYLIGHT
BEGIN:STANDARD
TZOFFSETFROM:+0200
TZOFFSETTO:+0100
TZNAME:CET
DTSTART:20241027T010000
END:STANDARD
BEGIN:DAYLIGHT
TZOFFSETFROM:+0100
TZOFFSETTO:+0200
TZNAME:CEST
DTSTART:20250330T010000
END:DAYLIGHT
BEGIN:STANDARD
TZOFFSETFROM:+0200
TZOFFSETTO:+0100
TZNAME:CET
DTSTART:20251026T010000
END:STANDARD
END:VTIMEZONE
BEGIN:VEVENT
DTSTART;TZID=Europe/Madrid:20240112T193000
DTEND;TZID=Europe/Madrid:20240112T233000
DTSTAMP:20260423T130050
CREATED:20231210T110012Z
LAST-MODIFIED:20231210T110234Z
UID:20844-1705087800-1705102200@enbruto.com
SUMMARY:Curso de cocina mexicana
DESCRIPTION:PLATOS: \n\nChilaquiles: Uno de los desayunos más populares de México (con totopos\, frijoles\, salsa tatemada\, etc.)\nAguachile: La versión mexicana del ceviche (de gamba con crema de huitlacoche y maíz)\nQuesadillas con pico de gallo\nTacos de carnitas (con guacamole clásico y crema agria)\n\nTodo acompañado de un buen Margarita. \nCOMPRAR CURSO
URL:https://enbruto.com/curso/curso-de-cocina-mexicana-12-01-24/
END:VEVENT
BEGIN:VEVENT
DTSTART;TZID=Europe/Madrid:20240119T193000
DTEND;TZID=Europe/Madrid:20240119T233000
DTSTAMP:20260423T130050
CREATED:20231210T093755Z
LAST-MODIFIED:20231210T093755Z
UID:20832-1705692600-1705707000@enbruto.com
SUMMARY:Curso de arroces y paella
DESCRIPTION:PLATOS: \n\nArroz seco de setas y mayonesa de comino\nArroz negro con ali oli de ajos asados\nPaella Valenciana\nArroz meloso de Txuleta y Pimientos del Piquillo\n\nTodo acompañado\, como no podía ser de otra manera\, de un agua de valencia. \nCOMPRAR CURSO
URL:https://enbruto.com/curso/curso-de-arroces-y-paella-19-01-24/
END:VEVENT
BEGIN:VEVENT
DTSTART;TZID=Europe/Madrid:20240120T193000
DTEND;TZID=Europe/Madrid:20240120T233000
DTSTAMP:20260423T130050
CREATED:20231210T115334Z
LAST-MODIFIED:20231210T115643Z
UID:20856-1705779000-1705793400@enbruto.com
SUMMARY:Curso de cocina japonesa
DESCRIPTION:PLATOS: \n\nGyozas (de verdura con carne con salsa de soja\, miel y aceite de sésamo)\nSushi (Nigiris de pez mantequilla y salsa ponzu y de salmón marinado en teriyaki con tobiko)\, Uramaki (vegetal de aguacate\, queso crema y mango) y Osomaki de atún)\nKaraage de pollo frito\, mayonesa de kimchee y col salteada (o pak choi salteado\, según disponibilidad de mercado)\n\nTodo acompañado de un Caipisake\, el híbrido japones brasileño. \nCOMPRAR CURSO
URL:https://enbruto.com/curso/curso-de-cocina-japonesa-20-01-24/
END:VEVENT
BEGIN:VEVENT
DTSTART;TZID=Europe/Madrid:20240126T193000
DTEND;TZID=Europe/Madrid:20240126T233000
DTSTAMP:20260423T130050
CREATED:20231210T094930Z
LAST-MODIFIED:20231210T095134Z
UID:20836-1706297400-1706311800@enbruto.com
SUMMARY:Curso de cocina peruana\, chifa y nikkei
DESCRIPTION:PLATOS: \n\nCausa limeña (con carpaccio de langostino marinado y mayonesa de aceituna negra)\nCeviche de corvina\, boniato asado y yuca frita\nAjí de gallina con arroz chaufa\nPionono\n\nTodo acompañado de un Pisco Sour de naranja sanguina. \nCOMPRAR CURSO
URL:https://enbruto.com/curso/curso-de-cocina-peruana-26-01-24/
END:VEVENT
BEGIN:VEVENT
DTSTART;TZID=Europe/Madrid:20240127T193000
DTEND;TZID=Europe/Madrid:20240127T230000
DTSTAMP:20260423T130050
CREATED:20231210T111807Z
LAST-MODIFIED:20240201T123939Z
UID:20850-1706383800-1706396400@enbruto.com
SUMMARY:Curso de cocina española actualizada
DESCRIPTION:PLATOS: \n\nSalmorejo de Melocotón\nPatatas revolconas: Puré de Revolconas\, Torrezno sin freír\, Mayonesa de Pimentón y Huevo a Baja Temperatura.\nArroz seco de mar y montaña. Arroz seco de carrilleras al vino tinto y carpaccio de langostino marinado.\nNuestra versión de la torrija: Torrija de pan de brioche con crema de orujo\, crema inglesa de vainilla y crumble de avellana salado\n\nTodo acompañado de sangría y rebujito \nCOMPRAR CURSO 
URL:https://enbruto.com/curso/curso-de-cocina-espanola-actualizada-27-01-24/
END:VEVENT
END:VCALENDAR