BEGIN:VCALENDAR
VERSION:2.0
PRODID:-//En Bruto - ECPv6.15.20//NONSGML v1.0//EN
CALSCALE:GREGORIAN
METHOD:PUBLISH
X-ORIGINAL-URL:https://enbruto.com
X-WR-CALDESC:Eventos para En Bruto
REFRESH-INTERVAL;VALUE=DURATION:PT1H
X-Robots-Tag:noindex
X-PUBLISHED-TTL:PT1H
BEGIN:VTIMEZONE
TZID:Europe/Madrid
BEGIN:DAYLIGHT
TZOFFSETFROM:+0100
TZOFFSETTO:+0200
TZNAME:CEST
DTSTART:20220327T010000
END:DAYLIGHT
BEGIN:STANDARD
TZOFFSETFROM:+0200
TZOFFSETTO:+0100
TZNAME:CET
DTSTART:20221030T010000
END:STANDARD
BEGIN:DAYLIGHT
TZOFFSETFROM:+0100
TZOFFSETTO:+0200
TZNAME:CEST
DTSTART:20230326T010000
END:DAYLIGHT
BEGIN:STANDARD
TZOFFSETFROM:+0200
TZOFFSETTO:+0100
TZNAME:CET
DTSTART:20231029T010000
END:STANDARD
BEGIN:DAYLIGHT
TZOFFSETFROM:+0100
TZOFFSETTO:+0200
TZNAME:CEST
DTSTART:20240331T010000
END:DAYLIGHT
BEGIN:STANDARD
TZOFFSETFROM:+0200
TZOFFSETTO:+0100
TZNAME:CET
DTSTART:20241027T010000
END:STANDARD
END:VTIMEZONE
BEGIN:VEVENT
DTSTART;TZID=Europe/Madrid:20230701T120000
DTEND;TZID=Europe/Madrid:20230701T160000
DTSTAMP:20260423T232812
CREATED:20230412T105110Z
LAST-MODIFIED:20230412T113407Z
UID:20317-1688212800-1688227200@enbruto.com
SUMMARY:Curso de arroces y paella
DESCRIPTION:PLATOS: \n\nArroz seco de setas y mayonesa de comino\nArroz negro con ali oli de ajos asados\nPaella Valenciana\nArroz meloso de Txuleta y Pimientos del Piquillo\n\nTodo acompañado\, como no podía ser de otra manera\, de un agua de valencia. \nCOMPRAR CURSO
URL:https://enbruto.com/curso/curso-de-arroces-y-paella-01-07-2023/
END:VEVENT
BEGIN:VEVENT
DTSTART;TZID=Europe/Madrid:20230706T190000
DTEND;TZID=Europe/Madrid:20230706T210000
DTSTAMP:20260423T232812
CREATED:20230621T105731Z
LAST-MODIFIED:20230621T105813Z
UID:20528-1688670000-1688677200@enbruto.com
SUMMARY:Curso de Cocina con 5 ingredientes
DESCRIPTION:PLATOS: \n\nPollo\, Zanahoria\, Ajetes\, Nata y Vino dulce: Pollo asado sobre crema de zanahoria y ajetes glaseados con vino dulce\nArroz\, Caldo\, Setas\, Queso y Mantequilla: Risotto de setas\n\nCOMPRAR CURSO
URL:https://enbruto.com/curso/curso-de-cocina-con-5-ingredientes/
END:VEVENT
BEGIN:VEVENT
DTSTART;TZID=Europe/Madrid:20230707T193000
DTEND;TZID=Europe/Madrid:20230707T233000
DTSTAMP:20260423T232812
CREATED:20230412T101613Z
LAST-MODIFIED:20230412T113329Z
UID:20291-1688758200-1688772600@enbruto.com
SUMMARY:Curso de cocina vegetal - plant based (Verano)
DESCRIPTION:PLATOS: \n\nG\n\nTodo acompañado de un Sex On The Beach \nPróximamente el Menú a partir del 11 de Junio de 2023 (cuando acabe el Menú de Primavera). \nCOMPRAR CURSO
URL:https://enbruto.com/curso/curso-de-cocina-vegetal-plant-based-verano-07-07-2023/
END:VEVENT
BEGIN:VEVENT
DTSTART;TZID=Europe/Madrid:20230708T120000
DTEND;TZID=Europe/Madrid:20230708T160000
DTSTAMP:20260423T232812
CREATED:20230412T114735Z
LAST-MODIFIED:20230412T114735Z
UID:20322-1688817600-1688832000@enbruto.com
SUMMARY:Curso de cocina española actualizada
DESCRIPTION:PLATOS: \n\nSalmorejo de Melocotón\nPatatas revolconas: Puré de Revolconas\, Torrezno sin freír\, Mayonesa de Pimentón y Huevo a Baja Temperatura.\nArroz seco de mar y montaña. Arroz seco de carrilleras al vino tinto y carpaccio de langostino marinado.\nNuestra versión de la torrija: Torrija de pan de brioche con crema de orujo\, crema inglesa de vainilla y crumble de avellana salado\n\nTodo acompañado de sangría y rebujito \nCOMPRAR CURSO 
URL:https://enbruto.com/curso/curso-de-cocina-espanola-actualizada-08-07-2023/
END:VEVENT
BEGIN:VEVENT
DTSTART;TZID=Europe/Madrid:20230711T180000
DTEND;TZID=Europe/Madrid:20230711T200000
DTSTAMP:20260423T232812
CREATED:20230621T105130Z
LAST-MODIFIED:20230621T105130Z
UID:20526-1689098400-1689105600@enbruto.com
SUMMARY:Curso de Cocina saludable en familia
DESCRIPTION:PLATOS: \n\nGazpacho de sandía\nGnocchi con salsa de guisantes e Idiazábal con tirabeques y/o ajetes salteados\nMelocotón en “almíbar” con Crema de Cacao saludable\n\nCOMPRAR CURSO
URL:https://enbruto.com/curso/cocina-sana-en-familia/
END:VEVENT
BEGIN:VEVENT
DTSTART;TZID=Europe/Madrid:20230712T190000
DTEND;TZID=Europe/Madrid:20230712T210000
DTSTAMP:20260423T232812
CREATED:20230621T105411Z
LAST-MODIFIED:20230629T093437Z
UID:20530-1689188400-1689195600@enbruto.com
SUMMARY:Curso de Cocina para los que no cocinan
DESCRIPTION:PLATOS: \n\nDipeo: Hummus de almendra frita\, Guacamole y Tzatziki\nTartar de remolacha\, aguacate y manzana ácida\nPasta al pesto rojo con berenjena asada en 10 min\n\nCOMPRAR CURSO
URL:https://enbruto.com/curso/curso-de-cocina-para-los-que-no-cocinan/
END:VEVENT
BEGIN:VEVENT
DTSTART;TZID=Europe/Madrid:20230714T193000
DTEND;TZID=Europe/Madrid:20230714T233000
DTSTAMP:20260423T232812
CREATED:20230412T100238Z
LAST-MODIFIED:20230412T113229Z
UID:20279-1689363000-1689377400@enbruto.com
SUMMARY:Curso de Coctelería
DESCRIPTION:Cócteles: \n\nMojito\nPisco Sour\nCosmopolitan\nMoscow Mule\nPorn Star Martini\n\nTodo acompañado de Causa limeña\, Pao de Queijo y Tarta de queso. \nCOMPRAR CURSO
URL:https://enbruto.com/curso/curso-de-cocteleria-14-07-2023/
END:VEVENT
END:VCALENDAR