BEGIN:VCALENDAR
VERSION:2.0
PRODID:-//En Bruto - ECPv6.15.20//NONSGML v1.0//EN
CALSCALE:GREGORIAN
METHOD:PUBLISH
X-WR-CALNAME:En Bruto
X-ORIGINAL-URL:https://enbruto.com
X-WR-CALDESC:Eventos para En Bruto
REFRESH-INTERVAL;VALUE=DURATION:PT1H
X-Robots-Tag:noindex
X-PUBLISHED-TTL:PT1H
BEGIN:VTIMEZONE
TZID:Europe/Madrid
BEGIN:DAYLIGHT
TZOFFSETFROM:+0100
TZOFFSETTO:+0200
TZNAME:CEST
DTSTART:20220327T010000
END:DAYLIGHT
BEGIN:STANDARD
TZOFFSETFROM:+0200
TZOFFSETTO:+0100
TZNAME:CET
DTSTART:20221030T010000
END:STANDARD
BEGIN:DAYLIGHT
TZOFFSETFROM:+0100
TZOFFSETTO:+0200
TZNAME:CEST
DTSTART:20230326T010000
END:DAYLIGHT
BEGIN:STANDARD
TZOFFSETFROM:+0200
TZOFFSETTO:+0100
TZNAME:CET
DTSTART:20231029T010000
END:STANDARD
BEGIN:DAYLIGHT
TZOFFSETFROM:+0100
TZOFFSETTO:+0200
TZNAME:CEST
DTSTART:20240331T010000
END:DAYLIGHT
BEGIN:STANDARD
TZOFFSETFROM:+0200
TZOFFSETTO:+0100
TZNAME:CET
DTSTART:20241027T010000
END:STANDARD
END:VTIMEZONE
BEGIN:VEVENT
DTSTART;TZID=Europe/Madrid:20230505T193000
DTEND;TZID=Europe/Madrid:20230505T233000
DTSTAMP:20260424T024130
CREATED:20230327T110152Z
LAST-MODIFIED:20230327T110152Z
UID:20181-1683315000-1683329400@enbruto.com
SUMMARY:Curso de cocina peruana (y de sus gastronomías)
DESCRIPTION:PLATOS: \n\nCausa limeña (con carpaccio de langostino marinado y mayonesa de aceituna negra)\nCeviche de corvina\, boniato asado y yuca frita\nAjí de gallina con arroz chaufa\nPionono\n\nTodo acompañado de un Pisco Sour de naranja sanguina. \nCOMPRAR CURSO
URL:https://enbruto.com/curso/curso-de-cocina-peruana-y-de-sus-gastronomias/
END:VEVENT
BEGIN:VEVENT
DTSTART;TZID=Europe/Madrid:20230512T193000
DTEND;TZID=Europe/Madrid:20230512T233000
DTSTAMP:20260424T024130
CREATED:20230412T101833Z
LAST-MODIFIED:20230412T114336Z
UID:20294-1683919800-1683934200@enbruto.com
SUMMARY:Curso de cocina tailandesa
DESCRIPTION:PLATOS: \n\nSopa Tom Yam\nPad Thai\nCurry rojo de carne con arroz frito tailandés\nSticky mango rice\n\nTodo acompañado de un Mai Thai. \nCOMPRAR CURSO
URL:https://enbruto.com/curso/curso-de-cocina-tailandesa-12-05-2023/
END:VEVENT
BEGIN:VEVENT
DTSTART;TZID=Europe/Madrid:20230513T120000
DTEND;TZID=Europe/Madrid:20230513T160000
DTSTAMP:20260424T024130
CREATED:20230412T104950Z
LAST-MODIFIED:20230412T114254Z
UID:20316-1683979200-1683993600@enbruto.com
SUMMARY:Curso de arroces y paella
DESCRIPTION:PLATOS: \n\nArroz seco de setas y mayonesa de comino\nArroz negro con ali oli de ajos asados\nPaella Valenciana\nArroz meloso de Txuleta y Pimientos del Piquillo\n\nTodo acompañado\, como no podía ser de otra manera\, de un agua de valencia. \nCOMPRAR CURSO
URL:https://enbruto.com/curso/curso-de-arroces-y-paella-13-05-2023/
END:VEVENT
BEGIN:VEVENT
DTSTART;TZID=Europe/Madrid:20230519T193000
DTEND;TZID=Europe/Madrid:20230519T233000
DTSTAMP:20260424T024130
CREATED:20230412T103535Z
LAST-MODIFIED:20230412T114218Z
UID:20308-1684524600-1684539000@enbruto.com
SUMMARY:Curso de cocina mexicana
DESCRIPTION:PLATOS: \n\nChilaquiles: Uno de los desayunos más populares de México (con totopos\, frijoles\, salsa tatemada\, etc.)\nAguachile: La versión mexicana del ceviche (de gamba con crema de huitlacoche y maíz)\nTacos de carnitas (con guacamole clásico y crema agria)\nTarta tres leches\n\nTodo acompañado de un buen Margarita. \nCOMPRAR CURSO
URL:https://enbruto.com/curso/curso-de-cocina-mexicana-19-05-2023/
END:VEVENT
BEGIN:VEVENT
DTSTART;TZID=Europe/Madrid:20230520T000000
DTEND;TZID=Europe/Madrid:20230520T160000
DTSTAMP:20260424T024130
CREATED:20230412T103243Z
LAST-MODIFIED:20230412T114144Z
UID:20304-1684540800-1684598400@enbruto.com
SUMMARY:Curso de cocina japonesa
DESCRIPTION:PLATOS: \n\nGyozas (de verdura con carne con salsa de soja\, miel y aceite de sésamo)\nSushi (Nigiris de pez mantequilla y salsa ponzu y de salmón marinado en teriyaki con tobiko)\, Uramaki (vegetal de aguacate\, queso crema y mango) y Osomaki de atún)\nKaraage de pollo frito\, mayonesa de kimchee y col salteada (o pak choi salteado\, según disponibilidad de mercado)\n\nTodo acompañado de un Caipisake\, el híbrido japones brasileño. \nCOMPRAR CURSO
URL:https://enbruto.com/curso/curso-de-cocina-japonesa-20-05-2023/
END:VEVENT
BEGIN:VEVENT
DTSTART;TZID=Europe/Madrid:20230526T193000
DTEND;TZID=Europe/Madrid:20230526T233000
DTSTAMP:20260424T024130
CREATED:20230412T104329Z
LAST-MODIFIED:20230412T114110Z
UID:20312-1685129400-1685143800@enbruto.com
SUMMARY:Curso de cocina francesa
DESCRIPTION:PLATOS: \n\n“Soupe d’oignons à la Valéry Giscard d’Estaing” o Sopa de Cebolla estilo V.G.E\n“Pâtes aux morilles et lard” o Pasta con colmenillas y tocino\n“Viande rouge en sauce béarnaise et gratin dauphinois” o Carne roja con salsa bearnesa\ny patatas gratinadas a la “dauphinois”\n“Tarte tatin au caramel fleur de sel” o Tarta tatin y crema inglesa de caramelo salado\n\nTodo acompañado de un French 75. \nCOMPRAR CURSO 
URL:https://enbruto.com/curso/curso-de-cocina-francesa-26-05-2023/
END:VEVENT
END:VCALENDAR