BEGIN:VCALENDAR
VERSION:2.0
PRODID:-//En Bruto - ECPv6.15.20//NONSGML v1.0//EN
CALSCALE:GREGORIAN
METHOD:PUBLISH
X-WR-CALNAME:En Bruto
X-ORIGINAL-URL:https://enbruto.com
X-WR-CALDESC:Eventos para En Bruto
REFRESH-INTERVAL;VALUE=DURATION:PT1H
X-Robots-Tag:noindex
X-PUBLISHED-TTL:PT1H
BEGIN:VTIMEZONE
TZID:Europe/Madrid
BEGIN:DAYLIGHT
TZOFFSETFROM:+0100
TZOFFSETTO:+0200
TZNAME:CEST
DTSTART:20220327T010000
END:DAYLIGHT
BEGIN:STANDARD
TZOFFSETFROM:+0200
TZOFFSETTO:+0100
TZNAME:CET
DTSTART:20221030T010000
END:STANDARD
BEGIN:DAYLIGHT
TZOFFSETFROM:+0100
TZOFFSETTO:+0200
TZNAME:CEST
DTSTART:20230326T010000
END:DAYLIGHT
BEGIN:STANDARD
TZOFFSETFROM:+0200
TZOFFSETTO:+0100
TZNAME:CET
DTSTART:20231029T010000
END:STANDARD
BEGIN:DAYLIGHT
TZOFFSETFROM:+0100
TZOFFSETTO:+0200
TZNAME:CEST
DTSTART:20240331T010000
END:DAYLIGHT
BEGIN:STANDARD
TZOFFSETFROM:+0200
TZOFFSETTO:+0100
TZNAME:CET
DTSTART:20241027T010000
END:STANDARD
END:VTIMEZONE
BEGIN:VEVENT
DTSTART;TZID=Europe/Madrid:20230304T193000
DTEND;TZID=Europe/Madrid:20230304T233000
DTSTAMP:20260424T054107
CREATED:20230130T163119Z
LAST-MODIFIED:20230130T163119Z
UID:19998-1677958200-1677972600@enbruto.com
SUMMARY:Curso de cocina china
DESCRIPTION:PLATOS: \n\nBerenjena estilo Sichuan\nSopa Won Ton al té amarillo\nDim sum de pato con salsa hoisin\nArroz frito con cerdo agridulce\n\nTodo acompañado de nuestra versión de la clara con toque chino. \nCOMPRAR CURSO
URL:https://enbruto.com/curso/curso-de-cocina-china-04-03-2023/
END:VEVENT
BEGIN:VEVENT
DTSTART;TZID=Europe/Madrid:20230305T120000
DTEND;TZID=Europe/Madrid:20230305T160000
DTSTAMP:20260424T054107
CREATED:20230130T164236Z
LAST-MODIFIED:20230204T125427Z
UID:20013-1678017600-1678032000@enbruto.com
SUMMARY:Curso de cocina mexicana
DESCRIPTION:PLATOS: \n\nChilaquiles: Uno de los desayunos más populares de México (con totopos\, frijoles\, salsa tatemada\, etc.)\nAguachile: La versión mexicana del ceviche (de gamba con crema de huitlacoche y maíz)\nTacos de carnitas (con guacamole clásico y crema agria)\nTarta tres leches\n\nTodo acompañado de un buen Margarita. \nCOMPRAR CURSO
URL:https://enbruto.com/curso/curso-de-cocina-mexicana-05-03-2023/
END:VEVENT
BEGIN:VEVENT
DTSTART;TZID=Europe/Madrid:20230311T193000
DTEND;TZID=Europe/Madrid:20230311T233000
DTSTAMP:20260424T054107
CREATED:20230130T163759Z
LAST-MODIFIED:20230412T113109Z
UID:20007-1678563000-1678577400@enbruto.com
SUMMARY:Curso de cocina española actualizada
DESCRIPTION:PLATOS: \n\nSalmorejo de Melocotón\nPatatas revolconas: Puré de Revolconas\, Torrezno sin freír\, Mayonesa de Pimentón y Huevo a Baja Temperatura.\nArroz seco de mar y montaña. Arroz seco de carrilleras al vino tinto y carpaccio de langostino marinado.\nNuestra versión de la torrija: Torrija de pan de brioche con crema de orujo\, crema inglesa de vainilla y crumble de avellana salado\n\nTodo acompañado de sangría y rebujito \nCOMPRAR CURSO 
URL:https://enbruto.com/curso/curso-de-cocina-espanola-actualizada-11-03-2023/
END:VEVENT
BEGIN:VEVENT
DTSTART;TZID=Europe/Madrid:20230317T193000
DTEND;TZID=Europe/Madrid:20230317T233000
DTSTAMP:20260424T054107
CREATED:20230130T164010Z
LAST-MODIFIED:20230130T164038Z
UID:20009-1679081400-1679095800@enbruto.com
SUMMARY:Curso de arroces y paella
DESCRIPTION:PLATOS: \n\nArroz seco de setas y mayonesa de comino\nArroz negro con ali oli de ajos asados\nPaella Valenciana\nArroz meloso de Txuleta y Pimientos del Piquillo\n\nTodo acompañado\, como no podía ser de otra manera\, de un agua de valencia. \nCOMPRAR CURSO
URL:https://enbruto.com/curso/curso-de-arroces-y-paella-17-03-2023/
END:VEVENT
BEGIN:VEVENT
DTSTART;TZID=Europe/Madrid:20230318T193000
DTEND;TZID=Europe/Madrid:20230318T233000
DTSTAMP:20260424T054107
CREATED:20230130T164135Z
LAST-MODIFIED:20230130T164135Z
UID:20011-1679167800-1679182200@enbruto.com
SUMMARY:Curso de cocina peruana (y de sus gastronomías)
DESCRIPTION:PLATOS: \n\nCausa limeña (con carpaccio de langostino marinado y mayonesa de aceituna negra)\nCeviche de corvina\, boniato asado y yuca frita\nAjí de gallina con arroz chaufa\nPionono\n\nTodo acompañado de un Pisco Sour de naranja sanguina. \nCOMPRAR CURSO
URL:https://enbruto.com/curso/curso-de-cocina-peruana-y-de-sus-gastronomias-18-03-2023/
END:VEVENT
BEGIN:VEVENT
DTSTART;TZID=Europe/Madrid:20230324T193000
DTEND;TZID=Europe/Madrid:20230324T233000
DTSTAMP:20260424T054107
CREATED:20230204T125543Z
LAST-MODIFIED:20230204T125543Z
UID:20001-1679686200-1679700600@enbruto.com
SUMMARY:Curso de cocina italiana
DESCRIPTION:PLATOS: \n\n“Parmigiana di melanzane” o Parmigiana de berenjena\n“Pasta alla carbonara e ai frutti di mare” o Pasta fresca con dos salsas (Carbonara y de Marisco)\n“Gnocchi al pesto genovese” o Gnocchis al pesto génoves\n“Il nosso Tiramisú” o Tiramisú clásico con toque de En Bruto\n\nTodo acompañado de un Aperol spritz \nCOMPRAR CURSO
URL:https://enbruto.com/curso/curso-de-cocina-italiana-24-03-2023/
END:VEVENT
BEGIN:VEVENT
DTSTART;TZID=Europe/Madrid:20230325T193000
DTEND;TZID=Europe/Madrid:20230325T233000
DTSTAMP:20260424T054107
CREATED:20230130T164357Z
LAST-MODIFIED:20230130T164357Z
UID:20015-1679772600-1679787000@enbruto.com
SUMMARY:Curso de masas\, panes y pizzas
DESCRIPTION:PLATOS: \n\nChapati\nPao de queijo\nHogaza integral\nPizza\nBrioche\n\nTodo acompañado del café e infusiones de En Bruto. \nCOMPRAR CURSO
URL:https://enbruto.com/curso/curso-de-masas-panes-y-pizzas-25-03-2023/
END:VEVENT
BEGIN:VEVENT
DTSTART;TZID=Europe/Madrid:20230331T193000
DTEND;TZID=Europe/Madrid:20230331T233000
DTSTAMP:20260424T054107
CREATED:20230130T164525Z
LAST-MODIFIED:20230130T164525Z
UID:20017-1680291000-1680305400@enbruto.com
SUMMARY:Curso de cocina francesa
DESCRIPTION:PLATOS: \n\n“Soupe d’oignons à la Valéry Giscard d’Estaing” o Sopa de Cebolla estilo V.G.E\n“Pâtes aux morilles et lard” o Pasta con colmenillas y tocino\n“Viande rouge en sauce béarnaise et gratin dauphinois” o Carne roja con salsa bearnesa\ny patatas gratinadas a la “dauphinois”\n“Tarte tatin au caramel fleur de sel” o Tarta tatin y crema inglesa de caramelo salado\n\nTodo acompañado de un French 75. \nCOMPRAR CURSO 
URL:https://enbruto.com/curso/curso-de-cocina-francesa-31-03-2023/
END:VEVENT
END:VCALENDAR