BEGIN:VCALENDAR
VERSION:2.0
PRODID:-//En Bruto - ECPv6.15.20//NONSGML v1.0//EN
CALSCALE:GREGORIAN
METHOD:PUBLISH
X-WR-CALNAME:En Bruto
X-ORIGINAL-URL:https://enbruto.com
X-WR-CALDESC:Eventos para En Bruto
REFRESH-INTERVAL;VALUE=DURATION:PT1H
X-Robots-Tag:noindex
X-PUBLISHED-TTL:PT1H
BEGIN:VTIMEZONE
TZID:Europe/Madrid
BEGIN:DAYLIGHT
TZOFFSETFROM:+0100
TZOFFSETTO:+0200
TZNAME:CEST
DTSTART:20220327T010000
END:DAYLIGHT
BEGIN:STANDARD
TZOFFSETFROM:+0200
TZOFFSETTO:+0100
TZNAME:CET
DTSTART:20221030T010000
END:STANDARD
BEGIN:DAYLIGHT
TZOFFSETFROM:+0100
TZOFFSETTO:+0200
TZNAME:CEST
DTSTART:20230326T010000
END:DAYLIGHT
BEGIN:STANDARD
TZOFFSETFROM:+0200
TZOFFSETTO:+0100
TZNAME:CET
DTSTART:20231029T010000
END:STANDARD
BEGIN:DAYLIGHT
TZOFFSETFROM:+0100
TZOFFSETTO:+0200
TZNAME:CEST
DTSTART:20240331T010000
END:DAYLIGHT
BEGIN:STANDARD
TZOFFSETFROM:+0200
TZOFFSETTO:+0100
TZNAME:CET
DTSTART:20241027T010000
END:STANDARD
END:VTIMEZONE
BEGIN:VEVENT
DTSTART;TZID=Europe/Madrid:20230204T193000
DTEND;TZID=Europe/Madrid:20230204T233000
DTSTAMP:20260424T070815
CREATED:20230130T155717Z
LAST-MODIFIED:20230130T160241Z
UID:19978-1675539000-1675553400@enbruto.com
SUMMARY:Curso de cocina mexicana
DESCRIPTION:PLATOS: \n\nChilaquiles: Uno de los desayunos más populares de México (con totopos\, frijoles\, salsa tatemada\, etc.)\nAguachile: La versión mexicana del ceviche (de gamba con crema de huitlacoche y maíz)\nTacos de carnitas (con guacamole clásico y crema agria)\nTarta tres leches\n\nTodo acompañado de un buen Margarita. \nCOMPRAR CURSO
URL:https://enbruto.com/curso/curso-de-cocina-mexicana-04-02-2023/
END:VEVENT
BEGIN:VEVENT
DTSTART;TZID=Europe/Madrid:20230205T000000
DTEND;TZID=Europe/Madrid:20230205T160000
DTSTAMP:20260424T070815
CREATED:20230130T155348Z
LAST-MODIFIED:20230201T160123Z
UID:19974-1675555200-1675612800@enbruto.com
SUMMARY:Curso de cocina española actualizada
DESCRIPTION:PLATOS: \n\nEmpanada gallega de zamburiñas\nPatatas revolconas: con patatas en dados\, puré de patata clásico de revolconas\, mayonesa de pimentón y panceta asada imitando un torrezno.\nArroz seco de mar y montaña. Arroz seco de carrilleras al vino tinto y carpaccio de langostino marinado.\nNuestra versión de la torrija: Torrija de pan de brioche con crema de orujo\, crema inglesa de vainilla y crumble de avellana salado\n\nTodo acompañado de sangría y rebujito \nCOMPRAR CURSO 
URL:https://enbruto.com/curso/curso-de-cocina-espanola-actualizada-05-02-2023/
END:VEVENT
BEGIN:VEVENT
DTSTART;TZID=Europe/Madrid:20230211T000000
DTEND;TZID=Europe/Madrid:20230211T160000
DTSTAMP:20260424T070815
CREATED:20230130T160043Z
LAST-MODIFIED:20230201T160323Z
UID:19980-1676073600-1676131200@enbruto.com
SUMMARY:Curso de masas\, panes y pizzas
DESCRIPTION:PLATOS: \n\nChapati\nPao de queijo\nHogaza integral\nPizza\nBrioche\n\nTodo acompañado del café e infusiones de En Bruto. \nCOMPRAR CURSO
URL:https://enbruto.com/curso/curso-de-masas-panes-y-pizzas-11-02-2023/
END:VEVENT
BEGIN:VEVENT
DTSTART;TZID=Europe/Madrid:20230211T193000
DTEND;TZID=Europe/Madrid:20230211T233000
DTSTAMP:20260424T070815
CREATED:20230130T160533Z
LAST-MODIFIED:20230130T160533Z
UID:19983-1676143800-1676158200@enbruto.com
SUMMARY:Curso de cocina tailandesa
DESCRIPTION:PLATOS: \n\nSopa Tom Yam\nPad Thai\nCurry rojo de carne con arroz frito tailandés\nSticky mango rice\n\nTodo acompañado de un Mai Thai. \nCOMPRAR CURSO
URL:https://enbruto.com/curso/curso-de-cocina-tailandesa-11-02-2023/
END:VEVENT
BEGIN:VEVENT
DTSTART;TZID=Europe/Madrid:20230217T193000
DTEND;TZID=Europe/Madrid:20230217T233000
DTSTAMP:20260424T070815
CREATED:20230130T160802Z
LAST-MODIFIED:20230130T160836Z
UID:19986-1676662200-1676676600@enbruto.com
SUMMARY:Curso de cocina peruana (y de sus gastronomías)
DESCRIPTION:PLATOS: \n\nCausa limeña (con carpaccio de langostino marinado y mayonesa de aceituna negra)\nCeviche de corvina\, boniato asado y yuca frita\nAjí de gallina con arroz chaufa\nPionono\n\nTodo acompañado de un Pisco Sour de naranja sanguina. \nCOMPRAR CURSO
URL:https://enbruto.com/curso/curso-de-cocina-peruana-y-de-sus-gastronomias-17-02-2023/
END:VEVENT
BEGIN:VEVENT
DTSTART;TZID=Europe/Madrid:20230218T000000
DTEND;TZID=Europe/Madrid:20230218T160000
DTSTAMP:20260424T070815
CREATED:20230130T161152Z
LAST-MODIFIED:20230201T160406Z
UID:19991-1676678400-1676736000@enbruto.com
SUMMARY:Curso de cocina francesa
DESCRIPTION:PLATOS: \n\n“Soupe d’oignons à la Valéry Giscard d’Estaing” o Sopa de Cebolla estilo V.G.E\n“Pâtes aux morilles et lard” o Pasta con colmenillas y tocino\n“Viande rouge en sauce béarnaise et gratin dauphinois” o Carne roja con salsa bearnesa\ny patatas gratinadas a la “dauphinois”\n“Tarte tatin au caramel fleur de sel” o Tarta tatin y crema inglesa de caramelo salado\n\nTodo acompañado de un French 75. \nCOMPRAR CURSO 
URL:https://enbruto.com/curso/curso-de-cocina-francesa-18-02-2023/
END:VEVENT
BEGIN:VEVENT
DTSTART;TZID=Europe/Madrid:20230218T193000
DTEND;TZID=Europe/Madrid:20230218T233000
DTSTAMP:20260424T070815
CREATED:20230130T160937Z
LAST-MODIFIED:20230130T160937Z
UID:19989-1676748600-1676763000@enbruto.com
SUMMARY:Curso de cocina peruana (y de sus gastronomías)
DESCRIPTION:PLATOS: \n\nCausa limeña (con carpaccio de langostino marinado y mayonesa de aceituna negra)\nCeviche de corvina\, boniato asado y yuca frita\nAjí de gallina con arroz chaufa\nPionono\n\nTodo acompañado de un Pisco Sour de naranja sanguina. \nCOMPRAR CURSO
URL:https://enbruto.com/curso/curso-de-cocina-peruana-y-de-sus-gastronomias-18-02-2023/
END:VEVENT
BEGIN:VEVENT
DTSTART;TZID=Europe/Madrid:20230224T193000
DTEND;TZID=Europe/Madrid:20230224T233000
DTSTAMP:20260424T070815
CREATED:20230130T161428Z
LAST-MODIFIED:20230130T161428Z
UID:19993-1677267000-1677281400@enbruto.com
SUMMARY:Curso de cocina creativa
DESCRIPTION:PLATOS: \n\nTosta de esfera de aceituna y berberechos en escabeche con su aire\nNuestra versión de los huevos rotos (bastones cortos de patata en doble cocción\, polvo de jamón\, holandesa de jamón y huevo a baja temperatura)\nBacalao al pilpil (bacalao confitado y al pilpil azul de ficocianina\, mermelada de piperrada\, y caviar de ajo asado)\nTarta de queso deconstruida (Espuma de queso\, gel de frambuesa y rocas de caramelo)\n\nTodo acompañado de un rebujito «azul» de fiocianina. \nCOMPRAR CURSO
URL:https://enbruto.com/curso/curso-de-cocina-creativa-24-02-2023/
END:VEVENT
BEGIN:VEVENT
DTSTART;TZID=Europe/Madrid:20230225T000000
DTEND;TZID=Europe/Madrid:20230225T160000
DTSTAMP:20260424T070815
CREATED:20230130T161700Z
LAST-MODIFIED:20230201T160446Z
UID:19995-1677283200-1677340800@enbruto.com
SUMMARY:Curso de cocina japonesa
DESCRIPTION:PLATOS: \n\nGyozas (de verdura con carne con salsa de soja\, miel y aceite de sésamo)\nSushi (Nigiris de pez mantequilla y salsa ponzu y de salmón marinado en teriyaki con tobiko)\, Uramaki (vegetal de aguacate\, queso crema y mango) y Osomaki de atún)\nRamen (y sus acompañamientos: fideos de ramen\, huevo pasado por agua macerado\, algas\, setas\, panceta y cebollino)\nKaraage de pollo frito\, mayonesa de kimchee y col salteada (o pak choi salteado\, según disponibilidad de mercado)\n\nTodo acompañado de un Caipisake\, el híbrido japones brasileño. \nCOMPRAR CURSO
URL:https://enbruto.com/curso/curso-de-cocina-japonesa-25-02-2023/
END:VEVENT
END:VCALENDAR